BEGIN:VCALENDAR
VERSION:2.0
PRODID:-//10 jours sans ecrans - ECPv6.15.20//NONSGML v1.0//EN
CALSCALE:GREGORIAN
METHOD:PUBLISH
X-ORIGINAL-URL:https://10jourssansecrans.org
X-WR-CALDESC:Évènements pour 10 jours sans ecrans
REFRESH-INTERVAL;VALUE=DURATION:PT1H
X-Robots-Tag:noindex
X-PUBLISHED-TTL:PT1H
BEGIN:VTIMEZONE
TZID:Europe/Paris
BEGIN:DAYLIGHT
TZOFFSETFROM:+0100
TZOFFSETTO:+0200
TZNAME:CEST
DTSTART:20250330T010000
END:DAYLIGHT
BEGIN:STANDARD
TZOFFSETFROM:+0200
TZOFFSETTO:+0100
TZNAME:CET
DTSTART:20251026T010000
END:STANDARD
BEGIN:DAYLIGHT
TZOFFSETFROM:+0100
TZOFFSETTO:+0200
TZNAME:CEST
DTSTART:20260329T010000
END:DAYLIGHT
BEGIN:STANDARD
TZOFFSETFROM:+0200
TZOFFSETTO:+0100
TZNAME:CET
DTSTART:20261025T010000
END:STANDARD
BEGIN:DAYLIGHT
TZOFFSETFROM:+0100
TZOFFSETTO:+0200
TZNAME:CEST
DTSTART:20270328T010000
END:DAYLIGHT
BEGIN:STANDARD
TZOFFSETFROM:+0200
TZOFFSETTO:+0100
TZNAME:CET
DTSTART:20271031T010000
END:STANDARD
END:VTIMEZONE
BEGIN:VEVENT
DTSTART;TZID=Europe/Paris:20260120T133000
DTEND;TZID=Europe/Paris:20260120T143000
DTSTAMP:20260426T043937
CREATED:20230226T095803Z
LAST-MODIFIED:20251208T073507Z
UID:3183-1768915800-1768919400@10jourssansecrans.org
SUMMARY:Webinaire n°4 – Préparer le défi en crèche
DESCRIPTION:Thème : Préparation du défi 10 Jours sans écrans dans une crèche ou structure d’accueil de la petite enfance\nCe quatrième webinaire s’inscrit dans la série de visioconférences dédiées à la préparation du défi 10 Jours sans écrans 2026. \nLe mardi 20 janvier 2026 de 13 h 30 à 14 h 30\, rejoignez-nous pour une visioconférence consacrée à la mise en place du défi en crèche ou structure d’accueil de la petite enfance\, avec les équipes et les familles. \nLors de cette session\, nous aborderons la façon d’adapter le défi aux tout-petits et au fonctionnement des structures : comment impliquer l’équipe\, associer les parents\, proposer des activités alternatives aux écrans et faire du défi un temps fort de la vie de la structure. \n🔔 Important : la visioconférence ne sera pas enregistrée et aucun replay ne sera disponible. Le support de présentation sera transmis aux adhérents préalablement inscrits. \nPublic concerné\nCe webinaire s’adresse en priorité : \n\naux professionnels de la petite enfance (éducateurs de jeunes enfants\, auxiliaires\, agents petite enfance\, etc.)\,\naux directions et responsables de crèches\, micro-crèches et structures d’accueil de la petite enfance\,\naux coordonnateurs petite enfance\, responsables de services municipaux ou intercommunaux\,\naux acteurs associatifs impliqués auprès des familles de jeunes enfants\,\naux élus et agents de collectivités en charge de la petite enfance et de la parentalité\,\naux parents ou représentants de parents souhaitant soutenir une démarche locale.\n\nProgramme\n\nRappel des objectifs du défi 10 Jours sans écrans\nComment adapter le défi aux 0–3 ans et à la réalité des structures d’accueil\nAssocier les parents : information\, communication\, posture bienveillante\nIdées d’animations et de temps forts à proposer sans écrans\nExemple de déroulé d’un défi dans une crèche ou structure d’accueil\nTemps d’échange interactif pour poser vos questions et partager vos expériences\n\nInscription\nLa participation est gratuite\, mais réservée aux adhérents à jour de leur cotisation. \nPour adhérer ou renouveler votre adhésion\, rendez-vous sur cette page : Adhésion 2026 – 10 Jours sans Écrans. \nComment valider votre inscription ? \n\nEntrez ci-dessous l’adresse mail associée à votre adhésion.\nSi elle correspond à une adhésion valide\, vous recevrez un message vous invitant à confirmer votre inscription.\n\nVotre email d'adhésion   Valider
URL:https://10jourssansecrans.org/event/webinaire-n4/
CATEGORIES:webinaires
END:VEVENT
END:VCALENDAR