BEGIN:VCALENDAR
VERSION:2.0
PRODID:-//10 jours sans ecrans - ECPv6.15.20//NONSGML v1.0//EN
CALSCALE:GREGORIAN
METHOD:PUBLISH
X-WR-CALNAME:10 jours sans ecrans
X-ORIGINAL-URL:https://10jourssansecrans.org
X-WR-CALDESC:Évènements pour 10 jours sans ecrans
REFRESH-INTERVAL;VALUE=DURATION:PT1H
X-Robots-Tag:noindex
X-PUBLISHED-TTL:PT1H
BEGIN:VTIMEZONE
TZID:Europe/Paris
BEGIN:DAYLIGHT
TZOFFSETFROM:+0100
TZOFFSETTO:+0200
TZNAME:CEST
DTSTART:20250330T010000
END:DAYLIGHT
BEGIN:STANDARD
TZOFFSETFROM:+0200
TZOFFSETTO:+0100
TZNAME:CET
DTSTART:20251026T010000
END:STANDARD
BEGIN:DAYLIGHT
TZOFFSETFROM:+0100
TZOFFSETTO:+0200
TZNAME:CEST
DTSTART:20260329T010000
END:DAYLIGHT
BEGIN:STANDARD
TZOFFSETFROM:+0200
TZOFFSETTO:+0100
TZNAME:CET
DTSTART:20261025T010000
END:STANDARD
BEGIN:DAYLIGHT
TZOFFSETFROM:+0100
TZOFFSETTO:+0200
TZNAME:CEST
DTSTART:20270328T010000
END:DAYLIGHT
BEGIN:STANDARD
TZOFFSETFROM:+0200
TZOFFSETTO:+0100
TZNAME:CET
DTSTART:20271031T010000
END:STANDARD
END:VTIMEZONE
BEGIN:VEVENT
DTSTART;TZID=Europe/Paris:20260107T100000
DTEND;TZID=Europe/Paris:20260107T113000
DTSTAMP:20260426T043734
CREATED:20250111T230724Z
LAST-MODIFIED:20251208T073428Z
UID:2784-1767780000-1767785400@10jourssansecrans.org
SUMMARY:Webinaire n°3 : préparation en classe.
DESCRIPTION:Ce troisième rendez-vous en ligne s’inscrit dans la série de webinaires dédiés à la préparation du défi 10 Jours sans Écrans 2026.Il est ouvert à toutes les personnes intéressées par la démarche du défi 10 Jours sans Écrans\, à condition d’être adhérent à jour de leur cotisation. \nCe webinaire sera plus particulièrement destiné aux enseignants d’école primaire et aux équipes éducatives qui souhaitent mener des activités pédagogiques avec leurs élèves en classe.D’autres webinaires suivront spécifiquement pour les collèges-lycées et les crèches / structures de petite enfance. \nCe temps d’échange a pour objectif de vous aider à intégrer le défi dans la vie de la classe\, à structurer une progression pédagogique cohérente et à outiller les élèves pour réfléchir à leurs usages numériques. \nPublic concerné\nCe webinaire s’adresse en priorité : \n\naux enseignants d’école primaire\,\naux équipes éducatives et directions d’établissement\,\naux animateurs et professionnels intervenant en milieu scolaire\,\nainsi qu’à toute personne impliquée dans la mise en place du défi 10 Jours sans Écrans en école primaire.\n\nProgramme\n\nPrésentation des activités et outils à mettre en place en classe pour réussir le défi\nExemples concrets d’activités pédagogiques avant\, pendant et après le défi\nTemps d’échange interactif pour partager idées\, bonnes pratiques et retours d’expérience\n\nInscription\nLa participation est gratuite\, mais réservée aux adhérents à jour de leur cotisation. \nPour adhérer ou renouveler votre adhésion\, rendez-vous sur cette page : [Adhésion 2025 – 10 Jours sans Écrans ] \nComment valider votre inscription ?\nEntrez ci-dessous l’adresse mail associée à votre adhésion.Si elle correspond à une adhésion valide\, vous recevrez un message vous invitant à confirmer votre inscription. \nVotre email d'adhésion   Valider
URL:https://10jourssansecrans.org/event/webinaire-n3-preparation-du-defi-en-classe/
CATEGORIES:webinaires
END:VEVENT
END:VCALENDAR