BEGIN:VCALENDAR
VERSION:2.0
PRODID:-//10 jours sans ecrans - ECPv6.15.20//NONSGML v1.0//EN
CALSCALE:GREGORIAN
METHOD:PUBLISH
X-ORIGINAL-URL:https://10jourssansecrans.org
X-WR-CALDESC:Évènements pour 10 jours sans ecrans
REFRESH-INTERVAL;VALUE=DURATION:PT1H
X-Robots-Tag:noindex
X-PUBLISHED-TTL:PT1H
BEGIN:VTIMEZONE
TZID:Europe/Paris
BEGIN:DAYLIGHT
TZOFFSETFROM:+0100
TZOFFSETTO:+0200
TZNAME:CEST
DTSTART:20240331T010000
END:DAYLIGHT
BEGIN:STANDARD
TZOFFSETFROM:+0200
TZOFFSETTO:+0100
TZNAME:CET
DTSTART:20241027T010000
END:STANDARD
BEGIN:DAYLIGHT
TZOFFSETFROM:+0100
TZOFFSETTO:+0200
TZNAME:CEST
DTSTART:20250330T010000
END:DAYLIGHT
BEGIN:STANDARD
TZOFFSETFROM:+0200
TZOFFSETTO:+0100
TZNAME:CET
DTSTART:20251026T010000
END:STANDARD
BEGIN:DAYLIGHT
TZOFFSETFROM:+0100
TZOFFSETTO:+0200
TZNAME:CEST
DTSTART:20260329T010000
END:DAYLIGHT
BEGIN:STANDARD
TZOFFSETFROM:+0200
TZOFFSETTO:+0100
TZNAME:CET
DTSTART:20261025T010000
END:STANDARD
END:VTIMEZONE
BEGIN:VEVENT
DTSTART;TZID=Europe/Paris:20251209T180000
DTEND;TZID=Europe/Paris:20251209T193000
DTSTAMP:20260426T043718
CREATED:20251122T091513Z
LAST-MODIFIED:20251208T062147Z
UID:6853-1765303200-1765308600@10jourssansecrans.org
SUMMARY:Session de rattrapage : webinaire n°1
DESCRIPTION:Thème : Comprendre les enjeux liés à la réduction du temps d’écran – session de rattrapage\nCette visioconférence est proposée en session de rattrapage pour les adhérents qui n’ont pas pu assister au webinaire n°1 consacré aux enjeux de la réduction du temps d’écran. \nLe mardi 9 décembre à 18 h 00\, rejoignez-nous pour une nouvelle présentation des principaux repères sur les effets de la surexposition aux écrans : impacts sur la santé\, l’éducation\, le vivre-ensemble\, la planète et plus largement notre société. \nCette session vous permettra d’acquérir ou de consolider les connaissances nécessaires pour mieux sensibiliser votre entourage et accompagner vos structures dans la réussite du défi 10 Jours sans écrans 2026. \nPublic concerné\nCe webinaire s’adresse en priorité aux adhérents n’ayant pas pu participer à la première session\, mais reste ouvert à toute personne intéressée par la démarche du défi 10 Jours sans écrans : \n\nenseignants\, équipes éducatives et directions d’établissement\,\nparents\, représentants de parents d’élèves\, ou toute personne souhaitant s’impliquer localement\,\nprofessionnels de la petite enfance et de l’animation\,\nacteurs associatifs\, bibliothécaires\, médiateurs numériques\,\nélus et agents de collectivités.\n\nProgramme\n\nPrésentation des enjeux et des objectifs du défi 10 Jours sans écrans\nFocus sur les impacts du temps d’écran sur la santé\, le développement de l’enfant et le lien social\nÉchanges et questions/réponses avec les participants\n\n\n					Inscription\nLa participation est gratuite\, mais réservée aux adhérents à jour de leur cotisation. \nPour adhérer ou renouveler votre adhésion\, rendez-vous sur cette page : [Adhésion 2026 – 10 Jours sans Écrans]. \nEntrez ci-dessous l’adresse mail associée à votre adhésion.\nSi elle correspond à une adhésion valide\, vous recevrez un message vous invitant à confirmer votre inscription. \nVotre email d'adhésion   Valider
URL:https://10jourssansecrans.org/event/session-de-rattrapage-webinaire-n1/
CATEGORIES:webinaires
END:VEVENT
BEGIN:VEVENT
DTSTART;TZID=Europe/Paris:20251210T100000
DTEND;TZID=Europe/Paris:20251210T113000
DTSTAMP:20260426T043718
CREATED:20230213T111442Z
LAST-MODIFIED:20251208T073225Z
UID:3158-1765360800-1765366200@10jourssansecrans.org
SUMMARY:Webinaire n°2 : méthodologie
DESCRIPTION:Thème : Méthodologie et organisation d’un défi 10 Jours sans écrans\nCe deuxième webinaire s’inscrit dans la série de visioconférences dédiées à la préparation du défi 10 Jours sans écrans 2026. \nLe mercredi 10 décembre à 10 h 00\, rejoignez-nous pour une visioconférence gratuite\, ouverte à toutes les personnes qui souhaitent approfondir leur compréhension du défi 10 Jours sans écrans et passer à l’action dans leur structure. \nLors de cette session\, nous aborderons les éléments méthodologiques clés pour organiser et mettre en place un défi réussi : étapes de préparation\, mobilisation des équipes\, communication auprès des familles\, outils et supports disponibles. Que vous soyez parent\, enseignant\, animateur\, éducateur\, responsable de structure (école\, crèche\, centre de loisirs\, médiathèque\, association\, collectivité…)\, cette visioconférence vous apportera des outils concrets et des conseils pratiques pour mobiliser votre entourage. \n🔔 Important : la visioconférence ne sera pas enregistrée et aucun replay ne sera disponible. Le support de présentation sera transmis aux adhérents préalablement inscrits. \nPublic concerné\nCe webinaire s’adresse à toute personne souhaitant organiser ou accompagner un défi 10 Jours sans écrans : \n\nenseignants\, équipes éducatives et directions d’établissement\,\nparents\, représentants de parents d’élèves\, ou toute personne souhaitant s’impliquer localement\,\nprofessionnels de la petite enfance et de l’animation\,\nacteurs associatifs\, bibliothécaires\, médiateurs numériques\,\nélus et agents de collectivités\,\nparents\, représentants de parents d’élèves\, ou toute personne souhaitant s’impliquer localement.\n\nProgramme\n\nRappel des objectifs du défi 10 Jours sans écrans\nLes grandes étapes pour organiser un défi dans une structure (ou sur un territoire)\nConseils pratiques pour mobiliser les équipes et les familles\nPrésentation des outils proposés par l’association 10 Jours sans écrans\nTemps d’échange interactif pour poser vos questions et partager vos idées\n\nInscription\nLa participation est gratuite\, mais réservée aux adhérents à jour de leur cotisation. \nPour adhérer ou renouveler votre adhésion\, rendez-vous sur cette page : Adhésion 2025 – 10 Jours sans Écrans \nComment valider votre inscription ?\nEntrez ci-dessous l’adresse mail associée à votre adhésion.\nSi elle correspond à une adhésion valide\, vous recevrez un message vous invitant à confirmer votre inscription. \nVotre email d'adhésion   Valider
URL:https://10jourssansecrans.org/event/visioconference-n2-elements-de-methodologie/
CATEGORIES:webinaires
END:VEVENT
END:VCALENDAR