BEGIN:VCALENDAR
VERSION:2.0
PRODID:-//10 jours sans ecrans - ECPv6.15.20//NONSGML v1.0//EN
CALSCALE:GREGORIAN
METHOD:PUBLISH
X-WR-CALNAME:10 jours sans ecrans
X-ORIGINAL-URL:https://10jourssansecrans.org
X-WR-CALDESC:Évènements pour 10 jours sans ecrans
REFRESH-INTERVAL;VALUE=DURATION:PT1H
X-Robots-Tag:noindex
X-PUBLISHED-TTL:PT1H
BEGIN:VTIMEZONE
TZID:Europe/Paris
BEGIN:DAYLIGHT
TZOFFSETFROM:+0100
TZOFFSETTO:+0200
TZNAME:CEST
DTSTART:20250330T010000
END:DAYLIGHT
BEGIN:STANDARD
TZOFFSETFROM:+0200
TZOFFSETTO:+0100
TZNAME:CET
DTSTART:20251026T010000
END:STANDARD
BEGIN:DAYLIGHT
TZOFFSETFROM:+0100
TZOFFSETTO:+0200
TZNAME:CEST
DTSTART:20260329T010000
END:DAYLIGHT
BEGIN:STANDARD
TZOFFSETFROM:+0200
TZOFFSETTO:+0100
TZNAME:CET
DTSTART:20261025T010000
END:STANDARD
BEGIN:DAYLIGHT
TZOFFSETFROM:+0100
TZOFFSETTO:+0200
TZNAME:CEST
DTSTART:20270328T010000
END:DAYLIGHT
BEGIN:STANDARD
TZOFFSETFROM:+0200
TZOFFSETTO:+0100
TZNAME:CET
DTSTART:20271031T010000
END:STANDARD
END:VTIMEZONE
BEGIN:VEVENT
DTSTART;VALUE=DATE:20260115
DTEND;VALUE=DATE:20260116
DTSTAMP:20260420T182308
CREATED:20250923T120850Z
LAST-MODIFIED:20251122T140013Z
UID:6753-1768435200-1768521599@10jourssansecrans.org
SUMMARY:Séminaire – Écrans : quels impacts sur la santé ?
DESCRIPTION:Date : Jeudi 15 janvier 2026 – 8:30 à 18:30\nLieu : Amphithéâtre Farabeuf\, Campus des Cordeliers\, 15 rue de l’École de Médecine\, 75006 Paris\nSous l’égide de : l’Institut de Santé Globale\nAvec le soutien de : Association N.E.R.F (Neurologie Environnement Réseau Francophone) \n\nPrésentation\nLes écrans font désormais partie intégrante de nos vies. Mais quels impacts ont-ils réellement sur notre santé physique\, mentale et sociale ?\nCe séminaire\, réunissant médecins\, chercheurs et experts\, propose un éclairage scientifique et pédagogique sur les usages numériques\, de la petite enfance à l’adolescence. \n\nProgramme (extraits)\n\nExposition précoce et cerveau en développement :\n\nÉcrans et santé : que peut et que doit dire la science ?\nLes bébés\, les écrans et leurs parents\nÉducation de l’attention à l’école (projet ATOLE)\nEnfants et écrans : leur laisser 6 années de liberté\nPollution organique et outils numériques\n\n\nUsages et santé de l’adolescent :\n\nÉcrans et hormones\nLoisirs numériques\, sédentarité et santé physique\nTroubles liés aux jeux vidéo en ligne\nCyberpédocriminalité : prévention et vigilance\nDécouvrir la robustesse du vivant face au numérique\n\n\n\nAvec la participation de : Bruno Falissard\, Gisèle Apter\, Jean-Philippe Lachaux\, Adeline Ancenay\, Jean-Baptiste Fini\, Jean-Paul De Filippo\, Yannick Guillodo\, Olivier Phan\, Véronique Bechu\, Olivier Hamant\, et bien d’autres. \n\nInformations pratiques\n\nAccueil dès 8h30\nClôture à 18h30\nTarif : 25 €\nInscription obligatoire via HelloAsso
URL:https://10jourssansecrans.org/event/seminaire-nerf-2025/
LOCATION:Campus des Cordeliers\, Amphithéâtre Farabeuf\, 15 Rue de l'Ecole de Médecine\, Paris\, 75006
CATEGORIES:Séminaires
END:VEVENT
END:VCALENDAR